BEGIN:VCALENDAR
PRODID:-//Microsoft Corporation//Outlook 16.0 MIMEDIR//EN
VERSION:2.0
METHOD:PUBLISH
X-MS-OLK-FORCEINSPECTOROPEN:TRUE
BEGIN:VTIMEZONE
TZID:Eastern Standard Time
BEGIN:STANDARD
DTSTART:16011104T020000
RRULE:FREQ=YEARLY;BYDAY=1SU;BYMONTH=11
TZOFFSETFROM:-0400
TZOFFSETTO:-0500
END:STANDARD
BEGIN:DAYLIGHT
DTSTART:16010311T020000
RRULE:FREQ=YEARLY;BYDAY=2SU;BYMONTH=3
TZOFFSETFROM:-0500
TZOFFSETTO:-0400
END:DAYLIGHT
END:VTIMEZONE
BEGIN:VEVENT
CLASS:PUBLIC
CREATED:20250617T211634Z
DESCRIPTION:The Certification Champion Networking Event is an online gather
	ing of Certification Champions across the organization. It's a collaborati
	ve space where we can share what’s working well in their areas\, exchang
	e ideas\, learn from one another\, and gather tips and strategies to take 
	back to our teams. The goal is to foster a community of shared learning an
	d support around professional board certification.\n\nWe look forward to t
	alking with you!\nThe NPGO Professional Development Committee \n\nJoin Zoo
	m Meeting\nhttps://uvahealth-org.zoom.us/j/98068263473?pwd=1bQbLCF8HLYZaYi
	hFCclS46fgAVTNm.1\n\nMeeting ID: 980 6826 3473\nPasscode: 58774751\n\n---\
	n\nOne tap mobile\n+13052241968\,\,98068263473#\,\,\,\,*58774751# US\n+130
	92053325\,\,98068263473#\,\,\,\,*58774751# US\n\n---\n\nDial by your locat
	ion\n• +1 305 224 1968 US\n• +1 309 205 3325 US\n• +1 312 626 6799 U
	S (Chicago)\n• +1 646 931 3860 US\n• +1 929 436 2866 US (New York)\n
	• +1 301 715 8592 US (Washington DC)\n• +1 669 444 9171 US\n• +1 669
	 900 6833 US (San Jose)\n• +1 689 278 1000 US\n• +1 719 359 4580 US\n
	• +1 253 205 0468 US\n• +1 253 215 8782 US (Tacoma)\n• +1 346 248 77
	99 US (Houston)\n• +1 360 209 5623 US\n• +1 386 347 5053 US\n• +1 50
	7 473 4847 US\n• +1 564 217 2000 US\n\nMeeting ID: 980 6826 3473\nPassco
	de: 58774751\n\nFind your local number: https://uvahealth-org.zoom.us/u/ac
	ZqyXZlsD\n\n---\n\nJoin by SIP\n• 98068263473@zoomcrc.com <mailto:980682
	63473@zoomcrc.com> \n\n---\n\nJoin by H.323\n• 144.195.19.161 (US West)\
	n• 206.247.11.121 (US East)\n• 115.114.131.7 (India Mumbai)\n• 115.1
	14.115.7 (India Hyderabad)\n• 159.124.15.191 (Amsterdam Netherlands)\n
	• 159.124.47.249 (Germany)\n• 159.124.104.213 (Australia Sydney)\n• 
	159.124.74.212 (Australia Melbourne)\n• 170.114.180.219 (Singapore)\n•
	 64.211.144.160 (Brazil)\n• 159.124.132.243 (Mexico)\n• 159.124.168.21
	3 (Canada Toronto)\n• 159.124.196.25 (Canada Vancouver)\n• 170.114.194
	.163 (Japan Tokyo)\n• 147.124.100.25 (Japan Osaka)\n\nMeeting ID: 980 68
	26 3473\nPasscode: 58774751\n\n
DTEND;TZID="Eastern Standard Time":20260115T160000
DTSTAMP:20250617T211634Z
DTSTART;TZID="Eastern Standard Time":20260115T150000
LAST-MODIFIED:20250617T211634Z
LOCATION:Zoom
PRIORITY:5
SEQUENCE:0
SUMMARY;LANGUAGE=en-us:January Certification Champion Networking Event 
TRANSP:OPAQUE
UID:040000008200E00074C5B7101A82E0080000000090B90372ABDFDB01000000000000000
	010000000763B715846DE8E46A458F655E3EB90BB
X-ALT-DESC;FMTTYPE=text/html:<!DOCTYPE HTML PUBLIC "-//W3C//DTD HTML 3.2//E
	N">\n<HTML>\n<HEAD>\n<META NAME="Generator" CONTENT="MS Exchange Server ve
	rsion 16.0.14332.21031">\n<TITLE></TITLE>\n</HEAD>\n<BODY>\n<!-- Converted
	 from text/rtf format -->\n\n<P DIR=LTR><SPAN LANG="en-us"><FONT COLOR="#0
	02060" FACE="Franklin Gothic Book">The Certification</FONT></SPAN><SPAN LA
	NG="en-us"></SPAN><SPAN LANG="en-us"></SPAN><SPAN LANG="en-us"></SPAN><SPA
	N LANG="en-us"> <FONT COLOR="#002060" FACE="Franklin Gothic Book">Champion
	 Networking Event is an online gathering of Certification Champions across
	 the organization. It's a collaborative space where</FONT></SPAN><SPAN LAN
	G="en-us"></SPAN><SPAN LANG="en-us"></SPAN><SPAN LANG="en-us"></SPAN><SPAN
	 LANG="en-us"> <FONT COLOR="#002060" FACE="Franklin Gothic Book">we</FONT>
	</SPAN><SPAN LANG="en-us"></SPAN><SPAN LANG="en-us"></SPAN><SPAN LANG="en-
	us"></SPAN><SPAN LANG="en-us"><FONT COLOR="#002060" FACE="Franklin Gothic 
	Book"> can share what’s working well in their areas\, exchange ideas\, l
	earn from one another\, and gather tips and strategies to take back to</FO
	NT></SPAN><SPAN LANG="en-us"></SPAN><SPAN LANG="en-us"></SPAN><SPAN LANG="
	en-us"></SPAN><SPAN LANG="en-us"> <FONT COLOR="#002060" FACE="Franklin Got
	hic Book">our</FONT></SPAN><SPAN LANG="en-us"></SPAN><SPAN LANG="en-us"></
	SPAN><SPAN LANG="en-us"></SPAN><SPAN LANG="en-us"><FONT COLOR="#002060" FA
	CE="Franklin Gothic Book"> teams. The goal is to foster a community of sha
	red learning and support around</FONT></SPAN><SPAN LANG="en-us"></SPAN><SP
	AN LANG="en-us"></SPAN><SPAN LANG="en-us"></SPAN><SPAN LANG="en-us"><FONT 
	COLOR="#002060" FACE="Franklin Gothic Book"> professional board</FONT></SP
	AN><SPAN LANG="en-us"></SPAN><SPAN LANG="en-us"></SPAN><SPAN LANG="en-us">
	</SPAN><SPAN LANG="en-us"><FONT COLOR="#002060" FACE="Franklin Gothic Book
	"> certification.</FONT></SPAN><SPAN LANG="en-us"></SPAN><SPAN LANG="en-us
	"></SPAN><SPAN LANG="en-us"></SPAN><SPAN LANG="en-us"></SPAN></P>\n\n<P DI
	R=LTR><SPAN LANG="en-us"><FONT COLOR="#002060" FACE="Franklin Gothic Book"
	>We look forward to talking with you!</FONT></SPAN></P>\n\n<P DIR=LTR><SPA
	N LANG="en-us"><FONT COLOR="#002060" FACE="Franklin Gothic Book">The NPGO 
	Professional Development Committee </FONT></SPAN></P>\n\n<P DIR=LTR><SPAN 
	LANG="en-us"></SPAN><A NAME=""><SPAN LANG="en-us"><FONT FACE="Calibri">Joi
	n Zoom Meeting</FONT></SPAN></A></P>\n\n<P DIR=LTR><SPAN LANG="en-us"></SP
	AN><A HREF="https://uvahealth-org.zoom.us/j/98068263473?pwd=1bQbLCF8HLYZaY
	ihFCclS46fgAVTNm.1"><SPAN LANG="en-us"></SPAN><SPAN LANG="en-us"></SPAN><S
	PAN LANG="en-us"><U><FONT COLOR="#0563C1" FACE="Calibri">https://uvahealth
	-org.zoom.us/j/98068263473?pwd=1bQbLCF8HLYZaYihFCclS46fgAVTNm.1</FONT></U>
	</SPAN><SPAN LANG="en-us"></SPAN></A><SPAN LANG="en-us"></SPAN><SPAN LANG=
	"en-us"></SPAN><SPAN LANG="en-us"></SPAN></P>\n\n<P DIR=LTR><SPAN LANG="en
	-us"><FONT FACE="Calibri">Meeting ID: 980 6826 3473</FONT></SPAN></P>\n\n<
	P DIR=LTR><SPAN LANG="en-us"><FONT FACE="Calibri">Passcode: 58774751</FONT
	></SPAN></P>\n\n<P DIR=LTR><SPAN LANG="en-us"><FONT FACE="Calibri">---</FO
	NT></SPAN></P>\n\n<P DIR=LTR><SPAN LANG="en-us"><FONT FACE="Calibri">One t
	ap mobile</FONT></SPAN></P>\n\n<P DIR=LTR><SPAN LANG="en-us"><FONT FACE="C
	alibri">+13052241968\,\,98068263473#\,\,\,\,*58774751# US</FONT></SPAN></P
	>\n\n<P DIR=LTR><SPAN LANG="en-us"><FONT FACE="Calibri">+13092053325\,\,98
	068263473#\,\,\,\,*58774751# US</FONT></SPAN></P>\n\n<P DIR=LTR><SPAN LANG
	="en-us"><FONT FACE="Calibri">---</FONT></SPAN></P>\n\n<P DIR=LTR><SPAN LA
	NG="en-us"><FONT FACE="Calibri">Dial by your location</FONT></SPAN></P>\n\
	n<P DIR=LTR><SPAN LANG="en-us"><FONT FACE="Calibri">• +1 305 224 1968 US
	</FONT></SPAN></P>\n\n<P DIR=LTR><SPAN LANG="en-us"><FONT FACE="Calibri">
	• +1 309 205 3325 US</FONT></SPAN></P>\n\n<P DIR=LTR><SPAN LANG="en-us">
	<FONT FACE="Calibri">• +1 312 626 6799 US (Chicago)</FONT></SPAN></P>\n\
	n<P DIR=LTR><SPAN LANG="en-us"><FONT FACE="Calibri">• +1 646 931 3860 US
	</FONT></SPAN></P>\n\n<P DIR=LTR><SPAN LANG="en-us"><FONT FACE="Calibri">
	• +1 929 436 2866 US (New York)</FONT></SPAN></P>\n\n<P DIR=LTR><SPAN LA
	NG="en-us"><FONT FACE="Calibri">• +1 301 715 8592 US (Washington DC)</FO
	NT></SPAN></P>\n\n<P DIR=LTR><SPAN LANG="en-us"><FONT FACE="Calibri">• +
	1 669 444 9171 US</FONT></SPAN></P>\n\n<P DIR=LTR><SPAN LANG="en-us"><FONT
	 FACE="Calibri">• +1 669 900 6833 US (San Jose)</FONT></SPAN></P>\n\n<P 
	DIR=LTR><SPAN LANG="en-us"><FONT FACE="Calibri">• +1 689 278 1000 US</FO
	NT></SPAN></P>\n\n<P DIR=LTR><SPAN LANG="en-us"><FONT FACE="Calibri">• +
	1 719 359 4580 US</FONT></SPAN></P>\n\n<P DIR=LTR><SPAN LANG="en-us"><FONT
	 FACE="Calibri">• +1 253 205 0468 US</FONT></SPAN></P>\n\n<P DIR=LTR><SP
	AN LANG="en-us"><FONT FACE="Calibri">• +1 253 215 8782 US (Tacoma)</FONT
	></SPAN></P>\n\n<P DIR=LTR><SPAN LANG="en-us"><FONT FACE="Calibri">• +1 
	346 248 7799 US (Houston)</FONT></SPAN></P>\n\n<P DIR=LTR><SPAN LANG="en-u
	s"><FONT FACE="Calibri">• +1 360 209 5623 US</FONT></SPAN></P>\n\n<P DIR
	=LTR><SPAN LANG="en-us"><FONT FACE="Calibri">• +1 386 347 5053 US</FONT>
	</SPAN></P>\n\n<P DIR=LTR><SPAN LANG="en-us"><FONT FACE="Calibri">• +1 5
	07 473 4847 US</FONT></SPAN></P>\n\n<P DIR=LTR><SPAN LANG="en-us"><FONT FA
	CE="Calibri">• +1 564 217 2000 US</FONT></SPAN></P>\n\n<P DIR=LTR><SPAN 
	LANG="en-us"><FONT FACE="Calibri">Meeting ID: 980 6826 3473</FONT></SPAN><
	/P>\n\n<P DIR=LTR><SPAN LANG="en-us"><FONT FACE="Calibri">Passcode: 587747
	51</FONT></SPAN></P>\n\n<P DIR=LTR><SPAN LANG="en-us"><FONT FACE="Calibri"
	>Find your local number:</FONT></SPAN><SPAN LANG="en-us"> </SPAN><A HREF="
	https://uvahealth-org.zoom.us/u/acZqyXZlsD"><SPAN LANG="en-us"></SPAN><SPA
	N LANG="en-us"></SPAN><SPAN LANG="en-us"><U><FONT COLOR="#0563C1" FACE="Ca
	libri">https://uvahealth-org.zoom.us/u/acZqyXZlsD</FONT></U></SPAN><SPAN L
	ANG="en-us"></SPAN></A><SPAN LANG="en-us"></SPAN><SPAN LANG="en-us"></SPAN
	><SPAN LANG="en-us"></SPAN></P>\n\n<P DIR=LTR><SPAN LANG="en-us"><FONT FAC
	E="Calibri">---</FONT></SPAN></P>\n\n<P DIR=LTR><SPAN LANG="en-us"><FONT F
	ACE="Calibri">Join by SIP</FONT></SPAN></P>\n\n<P DIR=LTR><SPAN LANG="en-u
	s"><FONT FACE="Calibri">•</FONT></SPAN><SPAN LANG="en-us"> </SPAN><A HRE
	F="mailto:98068263473@zoomcrc.com"><SPAN LANG="en-us"></SPAN><SPAN LANG="e
	n-us"></SPAN><SPAN LANG="en-us"><U><FONT COLOR="#0563C1" FACE="Calibri">98
	068263473@zoomcrc.com</FONT></U></SPAN><SPAN LANG="en-us"></SPAN></A><SPAN
	 LANG="en-us"></SPAN><SPAN LANG="en-us"></SPAN><SPAN LANG="en-us"></SPAN><
	/P>\n\n<P DIR=LTR><SPAN LANG="en-us"><FONT FACE="Calibri">---</FONT></SPAN
	></P>\n\n<P DIR=LTR><SPAN LANG="en-us"><FONT FACE="Calibri">Join by H.323<
	/FONT></SPAN></P>\n\n<P DIR=LTR><SPAN LANG="en-us"><FONT FACE="Calibri">
	• 144.195.19.161 (US West)</FONT></SPAN></P>\n\n<P DIR=LTR><SPAN LANG="e
	n-us"><FONT FACE="Calibri">• 206.247.11.121 (US East)</FONT></SPAN></P>\
	n\n<P DIR=LTR><SPAN LANG="en-us"><FONT FACE="Calibri">• 115.114.131.7 (I
	ndia Mumbai)</FONT></SPAN></P>\n\n<P DIR=LTR><SPAN LANG="en-us"><FONT FACE
	="Calibri">• 115.114.115.7 (India Hyderabad)</FONT></SPAN></P>\n\n<P DIR
	=LTR><SPAN LANG="en-us"><FONT FACE="Calibri">• 159.124.15.191 (Amsterdam
	 Netherlands)</FONT></SPAN></P>\n\n<P DIR=LTR><SPAN LANG="en-us"><FONT FAC
	E="Calibri">• 159.124.47.249 (Germany)</FONT></SPAN></P>\n\n<P DIR=LTR><
	SPAN LANG="en-us"><FONT FACE="Calibri">• 159.124.104.213 (Australia Sydn
	ey)</FONT></SPAN></P>\n\n<P DIR=LTR><SPAN LANG="en-us"><FONT FACE="Calibri
	">• 159.124.74.212 (Australia Melbourne)</FONT></SPAN></P>\n\n<P DIR=LTR
	><SPAN LANG="en-us"><FONT FACE="Calibri">• 170.114.180.219 (Singapore)</
	FONT></SPAN></P>\n\n<P DIR=LTR><SPAN LANG="en-us"><FONT FACE="Calibri">•
	 64.211.144.160 (Brazil)</FONT></SPAN></P>\n\n<P DIR=LTR><SPAN LANG="en-us
	"><FONT FACE="Calibri">• 159.124.132.243 (Mexico)</FONT></SPAN></P>\n\n<
	P DIR=LTR><SPAN LANG="en-us"><FONT FACE="Calibri">• 159.124.168.213 (Can
	ada Toronto)</FONT></SPAN></P>\n\n<P DIR=LTR><SPAN LANG="en-us"><FONT FACE
	="Calibri">• 159.124.196.25 (Canada Vancouver)</FONT></SPAN></P>\n\n<P D
	IR=LTR><SPAN LANG="en-us"><FONT FACE="Calibri">• 170.114.194.163 (Japan 
	Tokyo)</FONT></SPAN></P>\n\n<P DIR=LTR><SPAN LANG="en-us"><FONT FACE="Cali
	bri">• 147.124.100.25 (Japan Osaka)</FONT></SPAN></P>\n\n<P DIR=LTR><SPA
	N LANG="en-us"><FONT FACE="Calibri">Meeting ID: 980 6826 3473</FONT></SPAN
	></P>\n\n<P DIR=LTR><SPAN LANG="en-us"><FONT FACE="Calibri">Passcode: 5877
	4751</FONT></SPAN><A NAME=""><SPAN LANG="en-us"></SPAN></A><SPAN LANG="en-
	us"></SPAN><SPAN LANG="en-us"></SPAN></P>\n\n</BODY>\n</HTML>
X-MICROSOFT-CDO-BUSYSTATUS:BUSY
X-MICROSOFT-CDO-IMPORTANCE:1
X-MICROSOFT-DISALLOW-COUNTER:FALSE
X-MS-OLK-AUTOFILLLOCATION:FALSE
X-MS-OLK-CONFTYPE:0
BEGIN:VALARM
TRIGGER:-PT15M
ACTION:DISPLAY
DESCRIPTION:Reminder
END:VALARM
END:VEVENT
END:VCALENDAR
