BEGIN:VCALENDAR
PRODID:-//Microsoft Corporation//Outlook 16.0 MIMEDIR//EN
VERSION:2.0
METHOD:REQUEST
X-MS-OLK-FORCEINSPECTOROPEN:TRUE
BEGIN:VTIMEZONE
TZID:Eastern Standard Time
BEGIN:STANDARD
DTSTART:16011104T020000
RRULE:FREQ=YEARLY;BYDAY=1SU;BYMONTH=11
TZOFFSETFROM:-0400
TZOFFSETTO:-0500
END:STANDARD
BEGIN:DAYLIGHT
DTSTART:16010311T020000
RRULE:FREQ=YEARLY;BYDAY=2SU;BYMONTH=3
TZOFFSETFROM:-0500
TZOFFSETTO:-0400
END:DAYLIGHT
END:VTIMEZONE
BEGIN:VEVENT
ATTENDEE;CN="Jones, Elizabeth F. *HS (Outpatient Surgery)";RSVP=TRUE:mailto
	:EFS8X@uvahealth.org
ATTENDEE;CN="Mlinarchik-Gutierrez, Christina E *HS";RSVP=TRUE:mailto:CEG5R@
	uvahealth.org
ATTENDEE;CN="Glanzer, Luella *HS";RSVP=TRUE:mailto:LMK6F@uvahealth.org
ATTENDEE;CN="Morris, Pamela A *HS";RSVP=TRUE:mailto:PM2T@uvahealth.org
CLASS:PUBLIC
CREATED:20260129T184646Z
DESCRIPTION:Join Zoom Meeting\nhttps://uvahealth-org.zoom.us/j/96044179707?
	pwd=btxW6ZFZbIgUUmQoAfi0tQ3wEpfaEP.1\n\nMeeting ID: 960 4417 9707\nPasscod
	e: 24029629\n\n---\n\nOne tap mobile\n+13126266799\,\,96044179707#\,\,\,\,
	*24029629# US (Chicago)\n+16469313860\,\,96044179707#\,\,\,\,*24029629# US
	\n\n---\n\nJoin by SIP\n• 96044179707@zoomcrc.com\nPasscode: 24029629\n\
	nJoin instructions\nhttps://uvahealth-org.zoom.us/meetings/96044179707/inv
	itations?signature=2Av4uU6_ExwF0IduTyHqDZiqFP2kv-5SuhF75xUsiaA\n\n\n
DTEND;TZID="Eastern Standard Time":20260715T160000
DTSTAMP:20260129T175326Z
DTSTART;TZID="Eastern Standard Time":20260715T150000
LAST-MODIFIED:20260129T184646Z
LOCATION:Virtual\; https://uvahealth-org.zoom.us/j/96044179707?pwd=btxW6ZFZ
	bIgUUmQoAfi0tQ3wEpfaEP.1
ORGANIZER;CN=NPGO:mailto:NPGO@uvahealth.org
PRIORITY:5
SEQUENCE:1
SUMMARY;LANGUAGE=en-us:Certification Champion Virtual Networking Event
TRANSP:OPAQUE
UID:040000008200E00074C5B7101A82E0080000000030A7B1DD088FDC01000000000000000
	010000000321791E148C0424889508540DB39D44D
X-ALT-DESC;FMTTYPE=text/html:<!DOCTYPE HTML PUBLIC "-//W3C//DTD HTML 3.2//E
	N">\n<HTML>\n<HEAD>\n<META NAME="Generator" CONTENT="MS Exchange Server ve
	rsion 16.0.14334.20440">\n<TITLE></TITLE>\n</HEAD>\n<BODY>\n<!-- Converted
	 from text/rtf format -->\n\n<P DIR=LTR><SPAN LANG="en-us"></SPAN><A NAME=
	""><SPAN LANG="en-us"><FONT FACE="Calibri">Join Zoom Meeting</FONT></SPAN>
	</A></P>\n\n<P DIR=LTR><SPAN LANG="en-us"><FONT FACE="Calibri"><A HREF="ht
	tps://uvahealth-org.zoom.us/j/96044179707?pwd=btxW6ZFZbIgUUmQoAfi0tQ3wEpfa
	EP.1">https://uvahealth-org.zoom.us/j/96044179707?pwd=btxW6ZFZbIgUUmQoAfi0
	tQ3wEpfaEP.1</A></FONT></SPAN></P>\n\n<P DIR=LTR><SPAN LANG="en-us"><FONT 
	FACE="Calibri">Meeting ID: 960 4417 9707</FONT></SPAN></P>\n\n<P DIR=LTR><
	SPAN LANG="en-us"><FONT FACE="Calibri">Passcode: 24029629</FONT></SPAN></P
	>\n\n<P DIR=LTR><SPAN LANG="en-us"><FONT FACE="Calibri">---</FONT></SPAN><
	/P>\n\n<P DIR=LTR><SPAN LANG="en-us"><FONT FACE="Calibri">One tap mobile</
	FONT></SPAN></P>\n\n<P DIR=LTR><SPAN LANG="en-us"><FONT FACE="Calibri">+13
	126266799\,\,96044179707#\,\,\,\,*24029629# US (Chicago)</FONT></SPAN></P>
	\n\n<P DIR=LTR><SPAN LANG="en-us"><FONT FACE="Calibri">+16469313860\,\,960
	44179707#\,\,\,\,*24029629# US</FONT></SPAN></P>\n\n<P DIR=LTR><SPAN LANG=
	"en-us"><FONT FACE="Calibri">---</FONT></SPAN></P>\n\n<P DIR=LTR><SPAN LAN
	G="en-us"><FONT FACE="Calibri">Join by SIP</FONT></SPAN></P>\n\n<P DIR=LTR
	><SPAN LANG="en-us"><FONT FACE="Calibri">• 96044179707@zoomcrc.com</FONT
	></SPAN></P>\n\n<P DIR=LTR><SPAN LANG="en-us"><FONT FACE="Calibri">Passcod
	e: 24029629</FONT></SPAN></P>\n\n<P DIR=LTR><SPAN LANG="en-us"><FONT FACE=
	"Calibri">Join instructions</FONT></SPAN></P>\n\n<P DIR=LTR><SPAN LANG="en
	-us"><FONT FACE="Calibri"><A HREF="https://uvahealth-org.zoom.us/meetings/
	96044179707/invitations?signature=2Av4uU6_ExwF0IduTyHqDZiqFP2kv-5SuhF75xUs
	iaA">https://uvahealth-org.zoom.us/meetings/96044179707/invitations?signat
	ure=2Av4uU6_ExwF0IduTyHqDZiqFP2kv-5SuhF75xUsiaA</A></FONT></SPAN><A NAME="
	"><SPAN LANG="en-us"></SPAN></A><SPAN LANG="en-us"></SPAN><SPAN LANG="en-u
	s"></SPAN></P>\n<BR>\n\n</BODY>\n</HTML>
X-MICROSOFT-CDO-BUSYSTATUS:BUSY
X-MICROSOFT-CDO-IMPORTANCE:1
X-MICROSOFT-DISALLOW-COUNTER:FALSE
X-MS-OLK-APPTLASTSEQUENCE:1
X-MS-OLK-APPTSEQTIME:20260129T175326Z
X-MS-OLK-AUTOFILLLOCATION:FALSE
X-MS-OLK-CONFTYPE:0
X-MS-OLK-SENDER;CN="Morris, Pamela A *HS":mailto:PM2T@uvahealth.org
BEGIN:VALARM
TRIGGER:-PT15M
ACTION:DISPLAY
DESCRIPTION:Reminder
END:VALARM
END:VEVENT
END:VCALENDAR
