BEGIN:VCALENDAR
PRODID:-//Microsoft Corporation//Outlook 16.0 MIMEDIR//EN
VERSION:2.0
METHOD:REQUEST
X-MS-OLK-FORCEINSPECTOROPEN:TRUE
BEGIN:VTIMEZONE
TZID:Eastern Standard Time
BEGIN:STANDARD
DTSTART:16011104T020000
RRULE:FREQ=YEARLY;BYDAY=1SU;BYMONTH=11
TZOFFSETFROM:-0400
TZOFFSETTO:-0500
END:STANDARD
BEGIN:DAYLIGHT
DTSTART:16010311T020000
RRULE:FREQ=YEARLY;BYDAY=2SU;BYMONTH=3
TZOFFSETFROM:-0500
TZOFFSETTO:-0400
END:DAYLIGHT
END:VTIMEZONE
BEGIN:VEVENT
ATTENDEE;CN="Jones, Elizabeth F. *HS (Outpatient Surgery)";RSVP=TRUE:mailto
	:EFS8X@uvahealth.org
ATTENDEE;CN="Mlinarchik-Gutierrez, Christina E *HS";RSVP=TRUE:mailto:CEG5R@
	uvahealth.org
ATTENDEE;CN="Glanzer, Luella *HS";RSVP=TRUE:mailto:LMK6F@uvahealth.org
ATTENDEE;CN="Morris, Pamela A *HS";RSVP=TRUE:mailto:PM2T@uvahealth.org
CLASS:PUBLIC
CREATED:20260129T185036Z
DESCRIPTION:Join Zoom Meeting\nhttps://uvahealth-org.zoom.us/j/97867444600?
	pwd=G1e73qY2NXbxxO7bIPNAjeB32FKjAK.1\n\nMeeting ID: 978 6744 4600\nPasscod
	e: 18628592\n\n---\n\nOne tap mobile\n+13092053325\,\,97867444600#\,\,\,\,
	*18628592# US\n+13126266799\,\,97867444600#\,\,\,\,*18628592# US (Chicago)
	\n\n---\n\nJoin by SIP\n• 97867444600@zoomcrc.com\nPasscode: 18628592\n\
	nJoin instructions\nhttps://uvahealth-org.zoom.us/meetings/97867444600/inv
	itations?signature=jz9Cvxy5L6G5Mo2KX1dtMJlJG4SFZx6JM2cjquOcveI\n\n\n
DTEND;TZID="Eastern Standard Time":20261013T123000
DTSTAMP:20260129T175530Z
DTSTART;TZID="Eastern Standard Time":20261013T120000
LAST-MODIFIED:20260129T185036Z
LOCATION:Virtual\; https://uvahealth-org.zoom.us/j/97867444600?pwd=G1e73qY2
	NXbxxO7bIPNAjeB32FKjAK.1
ORGANIZER;CN=NPGO:mailto:NPGO@uvahealth.org
PRIORITY:5
SEQUENCE:1
SUMMARY;LANGUAGE=en-us:Certification Q&A Session
TRANSP:OPAQUE
UID:040000008200E00074C5B7101A82E00800000000E0F8F843098FDC01000000000000000
	010000000C75E7ED0A53C8A4AAE8E2CEC74CC3B2E
X-ALT-DESC;FMTTYPE=text/html:<!DOCTYPE HTML PUBLIC "-//W3C//DTD HTML 3.2//E
	N">\n<HTML>\n<HEAD>\n<META NAME="Generator" CONTENT="MS Exchange Server ve
	rsion 16.0.14334.20440">\n<TITLE></TITLE>\n</HEAD>\n<BODY>\n<!-- Converted
	 from text/rtf format -->\n\n<P DIR=LTR><SPAN LANG="en-us"></SPAN><A NAME=
	""><SPAN LANG="en-us"><FONT FACE="Calibri">Join Zoom Meeting</FONT></SPAN>
	</A></P>\n\n<P DIR=LTR><SPAN LANG="en-us"><FONT FACE="Calibri"><A HREF="ht
	tps://uvahealth-org.zoom.us/j/97867444600?pwd=G1e73qY2NXbxxO7bIPNAjeB32FKj
	AK.1">https://uvahealth-org.zoom.us/j/97867444600?pwd=G1e73qY2NXbxxO7bIPNA
	jeB32FKjAK.1</A></FONT></SPAN></P>\n\n<P DIR=LTR><SPAN LANG="en-us"><FONT 
	FACE="Calibri">Meeting ID: 978 6744 4600</FONT></SPAN></P>\n\n<P DIR=LTR><
	SPAN LANG="en-us"><FONT FACE="Calibri">Passcode: 18628592</FONT></SPAN></P
	>\n\n<P DIR=LTR><SPAN LANG="en-us"><FONT FACE="Calibri">---</FONT></SPAN><
	/P>\n\n<P DIR=LTR><SPAN LANG="en-us"><FONT FACE="Calibri">One tap mobile</
	FONT></SPAN></P>\n\n<P DIR=LTR><SPAN LANG="en-us"><FONT FACE="Calibri">+13
	092053325\,\,97867444600#\,\,\,\,*18628592# US</FONT></SPAN></P>\n\n<P DIR
	=LTR><SPAN LANG="en-us"><FONT FACE="Calibri">+13126266799\,\,97867444600#\
	,\,\,\,*18628592# US (Chicago)</FONT></SPAN></P>\n\n<P DIR=LTR><SPAN LANG=
	"en-us"><FONT FACE="Calibri">---</FONT></SPAN></P>\n\n<P DIR=LTR><SPAN LAN
	G="en-us"><FONT FACE="Calibri">Join by SIP</FONT></SPAN></P>\n\n<P DIR=LTR
	><SPAN LANG="en-us"><FONT FACE="Calibri">• 97867444600@zoomcrc.com</FONT
	></SPAN></P>\n\n<P DIR=LTR><SPAN LANG="en-us"><FONT FACE="Calibri">Passcod
	e: 18628592</FONT></SPAN></P>\n\n<P DIR=LTR><SPAN LANG="en-us"><FONT FACE=
	"Calibri">Join instructions</FONT></SPAN></P>\n\n<P DIR=LTR><SPAN LANG="en
	-us"><FONT FACE="Calibri"><A HREF="https://uvahealth-org.zoom.us/meetings/
	97867444600/invitations?signature=jz9Cvxy5L6G5Mo2KX1dtMJlJG4SFZx6JM2cjquOc
	veI">https://uvahealth-org.zoom.us/meetings/97867444600/invitations?signat
	ure=jz9Cvxy5L6G5Mo2KX1dtMJlJG4SFZx6JM2cjquOcveI</A></FONT></SPAN><A NAME="
	"><SPAN LANG="en-us"></SPAN></A><SPAN LANG="en-us"></SPAN><SPAN LANG="en-u
	s"></SPAN></P>\n<BR>\n\n</BODY>\n</HTML>
X-MICROSOFT-CDO-BUSYSTATUS:BUSY
X-MICROSOFT-CDO-IMPORTANCE:1
X-MICROSOFT-DISALLOW-COUNTER:FALSE
X-MS-OLK-APPTLASTSEQUENCE:1
X-MS-OLK-APPTSEQTIME:20260129T175530Z
X-MS-OLK-AUTOFILLLOCATION:FALSE
X-MS-OLK-CONFTYPE:0
X-MS-OLK-SENDER;CN="Morris, Pamela A *HS":mailto:PM2T@uvahealth.org
BEGIN:VALARM
TRIGGER:-PT15M
ACTION:DISPLAY
DESCRIPTION:Reminder
END:VALARM
END:VEVENT
END:VCALENDAR
