BEGIN:VCALENDAR
PRODID:-//Microsoft Corporation//Outlook 16.0 MIMEDIR//EN
VERSION:2.0
METHOD:REQUEST
X-MS-OLK-FORCEINSPECTOROPEN:TRUE
BEGIN:VTIMEZONE
TZID:Eastern Standard Time
BEGIN:STANDARD
DTSTART:16011104T020000
RRULE:FREQ=YEARLY;BYDAY=1SU;BYMONTH=11
TZOFFSETFROM:-0400
TZOFFSETTO:-0500
END:STANDARD
BEGIN:DAYLIGHT
DTSTART:16010311T020000
RRULE:FREQ=YEARLY;BYDAY=2SU;BYMONTH=3
TZOFFSETFROM:-0500
TZOFFSETTO:-0400
END:DAYLIGHT
END:VTIMEZONE
BEGIN:VEVENT
ATTENDEE;CN="Jones, Elizabeth F. *HS (Outpatient Surgery)";RSVP=TRUE:mailto
	:EFS8X@uvahealth.org
ATTENDEE;CN="Mlinarchik-Gutierrez, Christina E *HS";RSVP=TRUE:mailto:CEG5R@
	uvahealth.org
ATTENDEE;CN="Glanzer, Luella *HS";RSVP=TRUE:mailto:LMK6F@uvahealth.org
ATTENDEE;CN="Morris, Pamela A *HS";RSVP=TRUE:mailto:PM2T@uvahealth.org
CLASS:PUBLIC
CREATED:20260129T184954Z
DESCRIPTION:Join Zoom Meeting\nhttps://uvahealth-org.zoom.us/j/94587017114?
	pwd=raagbzpJGSJlYKoDmxwB8cPYB4yYdA.1\n\nMeeting ID: 945 8701 7114\nPasscod
	e: 30759328\n\n---\n\nOne tap mobile\n+16469313860\,\,94587017114#\,\,\,\,
	*30759328# US\n+19294362866\,\,94587017114#\,\,\,\,*30759328# US (New York
	)\n\n---\n\nJoin by SIP\n• 94587017114@zoomcrc.com\nPasscode: 30759328\n
	\nJoin instructions\nhttps://uvahealth-org.zoom.us/meetings/94587017114/in
	vitations?signature=CjHTUQh2yePQKWNw3CujHyKZsYfpJAdOfhBruB05R9w\n\n\n
DTEND;TZID="Eastern Standard Time":20260708T093000
DTSTAMP:20260129T175450Z
DTSTART;TZID="Eastern Standard Time":20260708T090000
LAST-MODIFIED:20260129T184954Z
LOCATION:Virtual\; https://uvahealth-org.zoom.us/j/94587017114?pwd=raagbzpJ
	GSJlYKoDmxwB8cPYB4yYdA.1
ORGANIZER;CN=NPGO:mailto:NPGO@uvahealth.org
PRIORITY:5
SEQUENCE:1
SUMMARY;LANGUAGE=en-us:Certification Q&A Session
TRANSP:OPAQUE
UID:040000008200E00074C5B7101A82E00800000000E0A0F02B098FDC01000000000000000
	010000000CCF0C13F0301BB4F8F96CD9D2DAEFE9A
X-ALT-DESC;FMTTYPE=text/html:<!DOCTYPE HTML PUBLIC "-//W3C//DTD HTML 3.2//E
	N">\n<HTML>\n<HEAD>\n<META NAME="Generator" CONTENT="MS Exchange Server ve
	rsion 16.0.14334.20440">\n<TITLE></TITLE>\n</HEAD>\n<BODY>\n<!-- Converted
	 from text/rtf format -->\n\n<P DIR=LTR><SPAN LANG="en-us"></SPAN><A NAME=
	""><SPAN LANG="en-us"><FONT FACE="Calibri">Join Zoom Meeting</FONT></SPAN>
	</A></P>\n\n<P DIR=LTR><SPAN LANG="en-us"><FONT FACE="Calibri"><A HREF="ht
	tps://uvahealth-org.zoom.us/j/94587017114?pwd=raagbzpJGSJlYKoDmxwB8cPYB4yY
	dA.1">https://uvahealth-org.zoom.us/j/94587017114?pwd=raagbzpJGSJlYKoDmxwB
	8cPYB4yYdA.1</A></FONT></SPAN></P>\n\n<P DIR=LTR><SPAN LANG="en-us"><FONT 
	FACE="Calibri">Meeting ID: 945 8701 7114</FONT></SPAN></P>\n\n<P DIR=LTR><
	SPAN LANG="en-us"><FONT FACE="Calibri">Passcode: 30759328</FONT></SPAN></P
	>\n\n<P DIR=LTR><SPAN LANG="en-us"><FONT FACE="Calibri">---</FONT></SPAN><
	/P>\n\n<P DIR=LTR><SPAN LANG="en-us"><FONT FACE="Calibri">One tap mobile</
	FONT></SPAN></P>\n\n<P DIR=LTR><SPAN LANG="en-us"><FONT FACE="Calibri">+16
	469313860\,\,94587017114#\,\,\,\,*30759328# US</FONT></SPAN></P>\n\n<P DIR
	=LTR><SPAN LANG="en-us"><FONT FACE="Calibri">+19294362866\,\,94587017114#\
	,\,\,\,*30759328# US (New York)</FONT></SPAN></P>\n\n<P DIR=LTR><SPAN LANG
	="en-us"><FONT FACE="Calibri">---</FONT></SPAN></P>\n\n<P DIR=LTR><SPAN LA
	NG="en-us"><FONT FACE="Calibri">Join by SIP</FONT></SPAN></P>\n\n<P DIR=LT
	R><SPAN LANG="en-us"><FONT FACE="Calibri">• 94587017114@zoomcrc.com</FON
	T></SPAN></P>\n\n<P DIR=LTR><SPAN LANG="en-us"><FONT FACE="Calibri">Passco
	de: 30759328</FONT></SPAN></P>\n\n<P DIR=LTR><SPAN LANG="en-us"><FONT FACE
	="Calibri">Join instructions</FONT></SPAN></P>\n\n<P DIR=LTR><SPAN LANG="e
	n-us"><FONT FACE="Calibri"><A HREF="https://uvahealth-org.zoom.us/meetings
	/94587017114/invitations?signature=CjHTUQh2yePQKWNw3CujHyKZsYfpJAdOfhBruB0
	5R9w">https://uvahealth-org.zoom.us/meetings/94587017114/invitations?signa
	ture=CjHTUQh2yePQKWNw3CujHyKZsYfpJAdOfhBruB05R9w</A></FONT></SPAN><A NAME=
	""><SPAN LANG="en-us"></SPAN></A><SPAN LANG="en-us"></SPAN><SPAN LANG="en-
	us"></SPAN></P>\n<BR>\n\n</BODY>\n</HTML>
X-MICROSOFT-CDO-BUSYSTATUS:BUSY
X-MICROSOFT-CDO-IMPORTANCE:1
X-MICROSOFT-DISALLOW-COUNTER:FALSE
X-MS-OLK-APPTLASTSEQUENCE:1
X-MS-OLK-APPTSEQTIME:20260129T175450Z
X-MS-OLK-AUTOFILLLOCATION:FALSE
X-MS-OLK-CONFTYPE:0
X-MS-OLK-SENDER;CN="Morris, Pamela A *HS":mailto:PM2T@uvahealth.org
BEGIN:VALARM
TRIGGER:-PT15M
ACTION:DISPLAY
DESCRIPTION:Reminder
END:VALARM
END:VEVENT
END:VCALENDAR
